BEGIN:VCALENDAR
VERSION:2.0
PRODID:-//pretix//pretix.eu//
BEGIN:VTIMEZONE
TZID:Europe/Berlin
BEGIN:STANDARD
DTSTART:20001029T040000
RRULE:FREQ=YEARLY;BYDAY=-1SU;BYMONTH=10
TZNAME:CET
TZOFFSETFROM:+0200
TZOFFSETTO:+0100
END:STANDARD
BEGIN:DAYLIGHT
DTSTART:20000326T030000
RRULE:FREQ=YEARLY;BYDAY=-1SU;BYMONTH=3
TZNAME:CEST
TZOFFSETFROM:+0100
TZOFFSETTO:+0200
END:DAYLIGHT
END:VTIMEZONE
BEGIN:VEVENT
UID:pretix-WZB-zivil-0@events.wzb.eu
DTSTART;TZID=Europe/Berlin:20250704T110000
DTEND;TZID=Europe/Berlin:20250704T140000
DESCRIPTION:Tickets: https://events.wzb.eu/zivil/\nVeranstalter: Wissenscha
 ftszentrum Berlin für Sozialforschung (WZB)
DTSTAMP:20260424T024622Z
LOCATION:ŒLGARTEN\, Schleusenufer 1\, 10997 Berlin
SUMMARY:„Was wirklich hilft:  Strategien der Zivilgesellschaft im Umgang 
 mit der extremen Rechten“
END:VEVENT
END:VCALENDAR
