BEGIN:VCALENDAR
VERSION:2.0
PRODID:-//pretix//pretix.eu//
BEGIN:VTIMEZONE
TZID:Europe/Berlin
BEGIN:STANDARD
DTSTART:20001029T040000
RRULE:FREQ=YEARLY;BYDAY=-1SU;BYMONTH=10
TZNAME:CET
TZOFFSETFROM:+0200
TZOFFSETTO:+0100
END:STANDARD
BEGIN:DAYLIGHT
DTSTART:20000326T030000
RRULE:FREQ=YEARLY;BYDAY=-1SU;BYMONTH=3
TZNAME:CEST
TZOFFSETFROM:+0100
TZOFFSETTO:+0200
END:DAYLIGHT
END:VTIMEZONE
BEGIN:VEVENT
UID:pretix-WZB-exsta-6-0@events.wzb.eu
DTSTART;TZID=Europe/Berlin:20250314T103000
DTEND;TZID=Europe/Berlin:20250314T163000
DESCRIPTION:Tickets: https://events.wzb.eu/exsta-6/\nVeranstalter: Wissensc
 haftszentrum Berlin für Sozialforschung (WZB)
DTSTAMP:20260421T185240Z
LOCATION:Vormittag (10:30-13:15 Uhr):\, Otto-Pankok-Schule\, Von-Bock-Str. 
 81\, 45468 Mülheim an der Ruhr\, Nachmittag (14:00-16:30 Uhr):\, Grundsch
 ule am Dichterviertel\, Bruchstr. 85\, 45468 Mülheim an der Ruhr
SUMMARY:Expert:innenforum Startchancen
END:VEVENT
END:VCALENDAR
