BEGIN:VCALENDAR
VERSION:2.0
PRODID:-//pretix//pretix.eu//
BEGIN:VTIMEZONE
TZID:Europe/Berlin
BEGIN:STANDARD
DTSTART:20001029T040000
RRULE:FREQ=YEARLY;BYDAY=-1SU;BYMONTH=10
TZNAME:CET
TZOFFSETFROM:+0200
TZOFFSETTO:+0100
END:STANDARD
BEGIN:DAYLIGHT
DTSTART:20000326T030000
RRULE:FREQ=YEARLY;BYDAY=-1SU;BYMONTH=3
TZNAME:CEST
TZOFFSETFROM:+0100
TZOFFSETTO:+0200
END:DAYLIGHT
END:VTIMEZONE
BEGIN:VEVENT
UID:pretix-WZB-ber4ukr-0@events.wzb.eu
DTSTART;TZID=Europe/Berlin:20220630T130000
DTEND;TZID=Europe/Berlin:20220630T200000
DESCRIPTION:Tickets: https://events.wzb.eu/ber4ukr/\nOrganizer: Wissenschaf
 tszentrum Berlin für Sozialforschung (WZB)
DTSTAMP:20260421T080825Z
LOCATION:Berlin-Brandenburg Academy of Sciences and Humanities (BBAW)\, Jä
 gerstraße 22/23\, 10117 Berlin\, Germany
SUMMARY:Berlin4Ukraine: Meet & Learn - A networking event for exile researc
 hers
END:VEVENT
END:VCALENDAR
